BEGIN:VCALENDAR
VERSION:2.0
PRODID:-//Eventin//Event Calendar//EN
CALSCALE:GREGORIAN
METHOD:PUBLISH
BEGIN:VEVENT
UID:2b2904a26e36c54b1ed91a1f01d3af3a@wordcraft.mx
SUMMARY:Proof + Trafik - Leon\, Gto
DESCRIPTION:PROOF + TRAFIKANTE DE ALMAS 🔥\nPresentando: Justiniani\nPrep
 árate para una noche de rap que no te puedes perder en León\, Gto. \n \
 n\n📍 Ubicación\nRolling House: Blvd Lopez Mateos 2001\, jardines del mo
 ral\, León\, Gto.\n⏰ Horarios\n\n\n8:00 PM: Acceso General\n\n\nMeet & G
 reet al terminar el show. \n\n\n\n⚠️ Reglas de Convivencia y Acceso\nP
 ara garantizar la seguridad de todos\, toma en cuenta las siguientes restri
 cciones:\n\n\nID Obligatoria: Evento únicamente para mayores de edad con I
 NE original.\n\n\nProhibido: Ingreso con armas\, drogas.\n\n\n\n🎫 Inform
 ación de tu Boleto\n\n\nDescarga Inmediata: Al finalizar tu compra\, podr
 ás bajar tu boleto PDF desde esta misma página.\n\n\nRespaldo por Email: 
 Te enviaremos una copia a tu correo. Importante: Si no lo ves en tu bandeja
  de entrada\, revisa la carpeta de SPAM o Correo no deseado.Si tienes algú
 n inconveniente\, contáctanos de inmediato para asistirte. @wordcraftmx\n\
 n\n¡Nos vemos pronto! 🔥⚡️
LOCATION:Rolling House
DTSTAMP:20260420T024227Z
DTSTART:20260426T030000Z
DTEND:20260426T060000Z
END:VEVENT
END:VCALENDAR
